BEGIN:VCALENDAR
VERSION:2.0
PRODID:-//Marty Schmidt - ECPv6.15.20//NONSGML v1.0//EN
CALSCALE:GREGORIAN
METHOD:PUBLISH
X-WR-CALNAME:Marty Schmidt
X-ORIGINAL-URL:https://martyschmidt.cc
X-WR-CALDESC:Events for Marty Schmidt
REFRESH-INTERVAL;VALUE=DURATION:PT1H
X-Robots-Tag:noindex
X-PUBLISHED-TTL:PT1H
BEGIN:VTIMEZONE
TZID:America/Chicago
BEGIN:DAYLIGHT
TZOFFSETFROM:-0600
TZOFFSETTO:-0500
TZNAME:CDT
DTSTART:20180311T080000
END:DAYLIGHT
BEGIN:STANDARD
TZOFFSETFROM:-0500
TZOFFSETTO:-0600
TZNAME:CST
DTSTART:20181104T070000
END:STANDARD
BEGIN:DAYLIGHT
TZOFFSETFROM:-0600
TZOFFSETTO:-0500
TZNAME:CDT
DTSTART:20190310T080000
END:DAYLIGHT
BEGIN:STANDARD
TZOFFSETFROM:-0500
TZOFFSETTO:-0600
TZNAME:CST
DTSTART:20191103T070000
END:STANDARD
BEGIN:DAYLIGHT
TZOFFSETFROM:-0600
TZOFFSETTO:-0500
TZNAME:CDT
DTSTART:20200308T080000
END:DAYLIGHT
BEGIN:STANDARD
TZOFFSETFROM:-0500
TZOFFSETTO:-0600
TZNAME:CST
DTSTART:20201101T070000
END:STANDARD
END:VTIMEZONE
BEGIN:VEVENT
DTSTART;TZID=America/Chicago:20190815T093000
DTEND;TZID=America/Chicago:20190815T120000
DTSTAMP:20260423T114822
CREATED:20190626T193142Z
LAST-MODIFIED:20190627T145952Z
UID:2416-1565861400-1565870400@martyschmidt.cc
SUMMARY:August Round Table
DESCRIPTION:We can’t wait for our next church round table\, coming up on Thursday\, August 15! Our round tables always include worship\, practical leadership thoughts\, and a chance to connect with other church leaders in our region. Our upcoming round table is especially exciting because we will have a special guest teacher joining us\, Howard Frist. Howard is a former business owner who began working at NewSpring church in South Carolina in 2006. He has served in multiple leadership and pastoral roles from overseeing campus launches to developing the NewSpring Network. Currently\, Howard oversees NewSpring’s central ministry teams\, which include creative arts\, next gen\, and connections. \nIf you plan to attend\, please RSVP. Feel free to invite other church leaders that might be interested in joining us by sharing this registration. \nWe hope you’re able to join us! \n\n\n\n\n\n\n\n\nRSVP
URL:https://martyschmidt.cc/event/round-table/
ATTACH;FMTTYPE=image/jpeg:https://martyschmidt.cc/wp-content/uploads/2019/06/unnamed.jpg
END:VEVENT
END:VCALENDAR